BEGIN:VCALENDAR
VERSION:2.0
PRODID:-//www.fraubrunnen.ch//NONSGML kigkonsult.se iCalcreator 2.22//
CALSCALE:GREGORIAN
METHOD:PUBLISH
X-WR-TIMEZONE:Europe/Berlin
BEGIN:VEVENT
UID:20260422T143534CEST-5633rFdP8d@www.fraubrunnen.ch
DTSTAMP:20260422T123534Z
DESCRIPTION:Klicken Sie auf den folgenden Link\, um weitere Informationen z
 ur Veranstaltung zu erhalten:\nhttp://www.fraubrunnen.ch/de/veranstaltunge
 n/detail/detail.php?i=62
DTSTART:20260424T201500
DTEND:20260424T220000
LOCATION:Schlosskeller Fraubrunnen
SUMMARY:Christoph Simon - Auf Kurs
END:VEVENT
END:VCALENDAR
